BEGIN:VCALENDAR
VERSION:2.0
PRODID:-//wp-events-plugin.com//7.2.3.1//EN
TZID:Europe/Paris
X-WR-TIMEZONE:Europe/Paris
BEGIN:VEVENT
UID:406@societe-de-lecture.ch
DTSTART;TZID=Europe/Paris:20251122T110000
DTEND;TZID=Europe/Paris:20251122T123000
DTSTAMP:20250916T144731Z
URL:https://www.societe-de-lecture.ch/events/une-dictee-a-la-societe-de-le
 cture/
SUMMARY:Une dictée à la Société de Lecture / sur liste d'attente
DESCRIPTION:Animée par Brigitte Rosset\n\nPrenez vos plumes pour le défi 
 lancé par la Société de Lecture ! La comédienne BRIGITTE ROSSET fera u
 ne dictée pour petits et grands. Venez en nombre pour une rencontre ludiq
 ue et amusante\, un peu différente\, sous le signe de la langue français
 e. Un apéritif suivra la correction et deux surprises sont prévues : une
  pour la dictée sans fautes et une pour la dictée avec l’orthographe l
 a plus fantaisiste.\n\nPapier et stylo seront fournis.\n\nAccueil dès 10h
 45
ATTACH;FMTTYPE=image/jpeg:https://www.societe-de-lecture.ch/wp-content/upl
 oads/2025/08/20200310RebeccaBowring.r.1472.jpg
CATEGORIES:Ateliers et autres activités,Automne 2025
LOCATION:Société de Lecture\, 11 Grand Rue\, Genève\, Suisse
X-APPLE-STRUCTURED-LOCATION;VALUE=URI;X-ADDRESS=11 Grand Rue\, Genève\, Su
 isse;X-APPLE-RADIUS=100;X-TITLE=Société de Lecture:geo:0,0
END:VEVENT
BEGIN:VTIMEZONE
TZID:Europe/Paris
X-LIC-LOCATION:Europe/Paris
BEGIN:STANDARD
DTSTART:20251026T020000
TZOFFSETFROM:+0200
TZOFFSETTO:+0100
TZNAME:CET
END:STANDARD
END:VTIMEZONE
END:VCALENDAR