BEGIN:VCALENDAR
VERSION:2.0
PRODID:-//wp-events-plugin.com//7.2.3.1//EN
TZID:Europe/Paris
X-WR-TIMEZONE:Europe/Paris
BEGIN:VEVENT
UID:387@societe-de-lecture.ch
DTSTART;TZID=Europe/Paris:20250925T123000
DTEND;TZID=Europe/Paris:20250925T123000
DTSTAMP:20250925T082100Z
URL:https://www.societe-de-lecture.ch/events/sandrine-chenivesse-differe/
SUMMARY:Sandrine Chenivesse / DIFFÉRÉ
DESCRIPTION:La forteresse des âmes mortes\n\nEntretien mené par Typhaine 
 Marc\, libraire et animatrice d'ateliers d'écriture créative\n\nSinologu
 e\, anthropologue des religions\, spécialiste du taoïsme\, SANDRINE CHEN
 IVESSE a vécu vingt ans en Chine. Ses articles académiques et ses confé
 rences dans les grandes écoles rendent compte de ses travaux de recherche
 . Elle exerce aujourd’hui comme psychanalyste transgénérationnelle et 
 se consacre à l’écriture. Dans les années nonante\, alors jeune ethno
 logue\, elle s’engage dans une aventure hors du commun : au bord du fleu
 ve Yangzi\, dans un village au pied du mont Fengdu\, elle explore la cité
  de la malemort et recherche les derniers maîtres des rituels grâce auxq
 uels les vivants pouvaient franchir la frontière\nde l’au-delà pour re
 voir leurs défunts. Confrontée au mutisme des habitants\, un accident ex
 istentiel la fige dans son élan\, précipitant sa plongée dans cet entre
 -deux-mondes et l’initiation qu’elle en retirera. Elle mettra vingt an
 s à rédiger La forteresse des âmes mortes (Actes Sud\, 2024).
CATEGORIES:Automne 2025,Différé / Replay
END:VEVENT
BEGIN:VTIMEZONE
TZID:Europe/Paris
X-LIC-LOCATION:Europe/Paris
BEGIN:DAYLIGHT
DTSTART:20250330T030000
TZOFFSETFROM:+0100
TZOFFSETTO:+0200
TZNAME:CEST
END:DAYLIGHT
END:VTIMEZONE
END:VCALENDAR