BEGIN:VCALENDAR
VERSION:2.0
PRODID:-//wp-events-plugin.com//7.2.3.1//EN
TZID:Europe/Paris
X-WR-TIMEZONE:Europe/Paris
BEGIN:VEVENT
UID:429@societe-de-lecture.ch
DTSTART;TZID=Europe/Paris:20260121T123000
DTEND;TZID=Europe/Paris:20260520T140000
DTSTAMP:20260121T145733Z
URL:https://www.societe-de-lecture.ch/events/pizza-4-livres-club-ado-11-a-
 15-ans/
SUMMARY:Pizza 4 livres - Club Ado (11 à 15 ans) - COMPLET
DESCRIPTION:Le mercredi de 12h30 à 14h\, commencé en 2025 et se poursuiva
 nt les 21 janvier\, 18 mars et 20 mai 2026\n\nAnimé par Bertille de Crevo
 isier\n\nUn rendez-vous convivial autour d’une pizza pour les lecteurs i
 ntrépides de 11 à 15 ans !\n\nLa sélection des romans à lire invite à
  la découverte d’auteurs qui écrivent pour la jeunesse en dehors des s
 entiers battus. Lors des séances\, entraînés par des jeux et quiz\, les
  membres du club apprennent à affirmer leur point de vue\, à affiner leu
 r perception des textes et à exprimer leurs émotions. La prise de parole
  est encouragée dans un esprit de partage authentique. Plus qu’un écha
 nge de coups de cœur\, c’est une initiation au débat d’idées qui es
 t apportée au groupe. Plus qu’un club\, c’est un vrai cénacle de joy
 eux adolescents qui se tient à la Société de Lecture !\n\nTour à tour 
 éditrice\, libraire et animatrice culturelle\, BERTILLE DE CREVOISIER sil
 lonne le monde des livres depuis une quinzaine d’années. À travers des
  ateliers et des rencontres\, elle invite à découvrir les joies de la le
 cture\, à éveiller l’imagination et à s’interroger sur diverses th
 ématiques.
CATEGORIES:Jeunesse,Printemps 2026
LOCATION:Société de Lecture\, 11 Grand Rue\, Genève\, Suisse
X-APPLE-STRUCTURED-LOCATION;VALUE=URI;X-ADDRESS=11 Grand Rue\, Genève\, Su
 isse;X-APPLE-RADIUS=100;X-TITLE=Société de Lecture:geo:0,0
END:VEVENT
BEGIN:VTIMEZONE
TZID:Europe/Paris
X-LIC-LOCATION:Europe/Paris
BEGIN:STANDARD
DTSTART:20251026T020000
TZOFFSETFROM:+0200
TZOFFSETTO:+0100
TZNAME:CET
END:STANDARD
BEGIN:DAYLIGHT
DTSTART:20260329T030000
TZOFFSETFROM:+0100
TZOFFSETTO:+0200
TZNAME:CEST
END:DAYLIGHT
END:VTIMEZONE
END:VCALENDAR