BEGIN:VCALENDAR
VERSION:2.0
PRODID:-//wp-events-plugin.com//7.2.3.1//EN
TZID:Europe/Paris
X-WR-TIMEZONE:Europe/Paris
BEGIN:VEVENT
UID:113@societe-de-lecture.ch
DTSTART;TZID=Europe/Paris:20240424T150000
DTEND;TZID=Europe/Paris:20240424T163000
DTSTAMP:20231128T164157Z
URL:https://www.societe-de-lecture.ch/events/petit-poucet/
SUMMARY:Petit Poucet
DESCRIPTION:Par Christine Métrailler\n\nAge conseillé: dès 4 ans\, goût
 er inclus\n\nChristine Métrailler conte depuis une vingtaine d’années 
 avec toujours la même envie. Elle se met au service d’une parole libre 
 et engagée pour questionner l’actualité\, mettre en abîme le réel et
  l’imaginaire et tracer peut-être de nouveaux chemins possibles. Elle c
 roit au pouvoir de l’imagination et c’est pour la maintenir vivante qu
 ’elle porte sur scène sa parole.\n\nC’est l’histoire d’un garçon
  tellement petit que ses amis le surnomment Poucet. Mais ce n’est pas pa
 rce que l’on est petit que l’on ne peut pas accomplir de grandes chose
 s.\nPoucet\, ce matin-là\, s’envole. Il vole au-dessus des mers et des 
 montagnes et atterrit loin\, très loin de sa maison. Il lui faut beaucoup
  de courage lorsqu'il rencontre un géant qui lui fait une drôle de propo
 sition !
LOCATION:Société de Lecture\, 11 Grand Rue\, Genève\, Suisse
X-APPLE-STRUCTURED-LOCATION;VALUE=URI;X-ADDRESS=11 Grand Rue\, Genève\, Su
 isse;X-APPLE-RADIUS=100;X-TITLE=Société de Lecture:geo:0,0
END:VEVENT
BEGIN:VTIMEZONE
TZID:Europe/Paris
X-LIC-LOCATION:Europe/Paris
BEGIN:DAYLIGHT
DTSTART:20240331T030000
TZOFFSETFROM:+0100
TZOFFSETTO:+0200
TZNAME:CEST
END:DAYLIGHT
END:VTIMEZONE
END:VCALENDAR