BEGIN:VCALENDAR
VERSION:2.0
PRODID:-//wp-events-plugin.com//7.2.3.1//EN
TZID:Europe/Paris
X-WR-TIMEZONE:Europe/Paris
BEGIN:VEVENT
UID:422@societe-de-lecture.ch
DTSTART;TZID=Europe/Paris:20251001T150000
DTEND;TZID=Europe/Paris:20251001T163000
DTSTAMP:20250819T074615Z
URL:https://www.societe-de-lecture.ch/events/les-trois-petites-louves-thea
 tre-de-marionnettes/
SUMMARY:Les trois petites louves - théâtre de marionnettes
DESCRIPTION:Par La Compagnie des Croquettes\n\nAge conseillé : dès 4 ans
 \, goûter inclus\n\nTeresa Benson et Éliane Longet animent LA COMPAGNIE 
 DES CROQUETTES. Elles inventent ou adaptent des histoires\, écrivent les 
 dialogues\, conçoivent les mises en scène. Proches des enfants\, elles f
 ont le choix d’histoires attrayantes\, de thèmes qui les touchent pour 
 leur faire vivre leurs premières émotions théâtrales.\n\nL’histoire 
 des trois petits cochons revisitée… Les trois petites louves arriveront
 -elles à amadouer le grand cochon ? Ici\, le prédateur qui rôde n’est
  pas le loup mais un grand cochon. Et les proies potentielles\, des louves
  à qui l’on donnerait le bon Dieu sans confession. Une inversion surpre
 nante qui a au moins le mérite de susciter la curiosité du jeune public\
 , sensible aux thématiques abordées : les préjugés\, les conflits\, le
  courage ou encore la solidarité.\n\nLes enfants doivent obligatoirement 
 être accompagnés d’un adulte.
CATEGORIES:Automne 2025,Jeunesse
LOCATION:Société de Lecture\, 11 Grand Rue\, Genève\, Suisse
X-APPLE-STRUCTURED-LOCATION;VALUE=URI;X-ADDRESS=11 Grand Rue\, Genève\, Su
 isse;X-APPLE-RADIUS=100;X-TITLE=Société de Lecture:geo:0,0
END:VEVENT
BEGIN:VTIMEZONE
TZID:Europe/Paris
X-LIC-LOCATION:Europe/Paris
BEGIN:DAYLIGHT
DTSTART:20250330T030000
TZOFFSETFROM:+0100
TZOFFSETTO:+0200
TZNAME:CEST
END:DAYLIGHT
END:VTIMEZONE
END:VCALENDAR