BEGIN:VCALENDAR
VERSION:2.0
PRODID:-//wp-events-plugin.com//7.2.3.1//EN
TZID:Europe/Paris
X-WR-TIMEZONE:Europe/Paris
BEGIN:VEVENT
UID:399@societe-de-lecture.ch
DTSTART;TZID=Europe/Paris:20251120T123000
DTEND;TZID=Europe/Paris:20251120T123000
DTSTAMP:20251120T084827Z
URL:https://www.societe-de-lecture.ch/events/kathia-marquis-et-jacques-mic
 hel-2/
SUMMARY:Kathia Marquis et Jacques Michel / DIFFÉRÉ
DESCRIPTION:Les bijoux de la Castafiore\n\nEntretien mené par Patrick Ferl
 a\, journaliste \n\nEn collaboration avec le Théâtre de Carouge\n\nVing
 t-quatre années se sont écoulées depuis la création du spectacle mythi
 que des Bijoux de la Castafiore\, mis en scène par Christiane Suter et Do
 minique Catton. En hommage à ce dernier\, Jean Liermier\, qui jouait le r
 ôle de Tintin\, reprend avec Christiane Suter la mise en scène de cette 
 adaptation unique de l’univers hergéen aux personnages atemporels. Parm
 i eux\, nous retrouvons les emblématiques personnages de Bianca Castafior
 e et du capitaine Haddock\, interprétés depuis 2001 par KATHIA MARQUIS e
 t JACQUES MICHEL\, deux célèbres figures du théâtre suisse\, qui vous 
 racontent leurs aventures.\n\nLes Bijoux de la Castafiore du 18 novembre a
 u 21 décembre 2025 au Théâtre de Carouge.\nRéservations pour le specta
 cle : sur le site theatredecarouge.ch ou par téléphone 022 343 43 43.
CATEGORIES:Automne 2025,Différé / Replay
END:VEVENT
BEGIN:VTIMEZONE
TZID:Europe/Paris
X-LIC-LOCATION:Europe/Paris
BEGIN:STANDARD
DTSTART:20251026T020000
TZOFFSETFROM:+0200
TZOFFSETTO:+0100
TZNAME:CET
END:STANDARD
END:VTIMEZONE
END:VCALENDAR