BEGIN:VCALENDAR
VERSION:2.0
PRODID:-//wp-events-plugin.com//7.2.3.1//EN
TZID:Europe/Paris
X-WR-TIMEZONE:Europe/Paris
BEGIN:VEVENT
UID:402@societe-de-lecture.ch
DTSTART;TZID=Europe/Paris:20251204T123000
DTEND;TZID=Europe/Paris:20251204T123000
DTSTAMP:20251128T145313Z
URL:https://www.societe-de-lecture.ch/events/joseph-incardona-differe/
SUMMARY:Joseph Incardona / DIFFÉRÉ
DESCRIPTION:Le chant des sirènes\n\nEntretien mené par Pascal Schouwey\, 
 journaliste indépendant\n\nÉcrivain\, scénariste et réalisateur\, JOSE
 PH INCARDONA puise ses références dans le roman noir\, la littérature n
 ord-américaine et un humour décalé. Les éditions Finitude ont publié 
 une quinzaine de ses romans dont Chaleur qui se déroule en Finlande lors 
 d’un championnat du monde de sauna (Prix du Polar romand 2017) et La sou
 straction des possibles qui plonge dans la finance genevoise des années q
 uatre-vingt (Prix Relay et Prix RTS 2020). Après Les corps solides (2022)
  dans lequel une mère et son fils tentent de gagner un gros lot en partic
 ipant à un jeu télévisé\, Stella et l’Amérique (2024) raconte l’h
 istoire d’une prostituée\nfaiseuse de miracles poursuivie par le Vatica
 n.\n\nDans Le monde est fatigué (2025)\, il imagine le destin d’une sir
 ène professionnelle qui nage dans les plus grands aquariums du monde. Il 
 revisite le mythe et donne à voir une humanité en passe de perdre son â
 me.
CATEGORIES:Automne 2025,Différé / Replay
END:VEVENT
BEGIN:VTIMEZONE
TZID:Europe/Paris
X-LIC-LOCATION:Europe/Paris
BEGIN:STANDARD
DTSTART:20251026T020000
TZOFFSETFROM:+0200
TZOFFSETTO:+0100
TZNAME:CET
END:STANDARD
END:VTIMEZONE
END:VCALENDAR