BEGIN:VCALENDAR
VERSION:2.0
PRODID:-//wp-events-plugin.com//7.2.3.1//EN
TZID:Europe/Paris
X-WR-TIMEZONE:Europe/Paris
BEGIN:VEVENT
UID:371@societe-de-lecture.ch
DTSTART;TZID=Europe/Paris:20251030T190000
DTEND;TZID=Europe/Paris:20251030T203000
DTSTAMP:20250915T155553Z
URL:https://www.societe-de-lecture.ch/events/jim-fergus-english/
SUMMARY:CANCELLED / Jim Fergus - English
DESCRIPTION:Due to health reasons\, Jim Fergus is unfortunately unable to g
 ive its lecture on October 30th.\n\nThe Strength of Native American Women\
 n\nInterview conducted by Kasmira Jefford\, editor-in-chief de Geneva Sol
 utions\n\nBorn in Chicago in 1950 to a French mother and an American fathe
 r\, JIM FERGUS lives between Arizona\, Colorado and France. Passionate abo
 ut Native American cultures\, particularly the Cheyenne\, he writes sweepi
 ng epics that combine portraits of strong women with historical plots. He 
 has achieved great success with One Thousand White Women (Le Cherche Midi\
 , 2000): his trilogy takes place in 1874\, when a convoy of a thousand whi
 te women is exchanged\, willingly or by force\, for a thousand horses to e
 nsure peace between peoples by mixing blood. We are welcoming Jim Fergus f
 or the French release of the\nsecond edition of The Wild Girl (Le Cherche 
 Midi\, 2025).
CATEGORIES:Automne 2025,Conférences,Conférences en anglais
LOCATION:Société de Lecture\, 11 Grand Rue\, Genève\, Suisse
X-APPLE-STRUCTURED-LOCATION;VALUE=URI;X-ADDRESS=11 Grand Rue\, Genève\, Su
 isse;X-APPLE-RADIUS=100;X-TITLE=Société de Lecture:geo:0,0
END:VEVENT
BEGIN:VTIMEZONE
TZID:Europe/Paris
X-LIC-LOCATION:Europe/Paris
BEGIN:STANDARD
DTSTART:20251026T020000
TZOFFSETFROM:+0200
TZOFFSETTO:+0100
TZNAME:CET
END:STANDARD
END:VTIMEZONE
END:VCALENDAR