BEGIN:VCALENDAR
VERSION:2.0
PRODID:-//wp-events-plugin.com//7.2.3.1//EN
TZID:Europe/Paris
X-WR-TIMEZONE:Europe/Paris
BEGIN:VEVENT
UID:392@societe-de-lecture.ch
DTSTART;TZID=Europe/Paris:20251028T123000
DTEND;TZID=Europe/Paris:20251028T123000
DTSTAMP:20251028T093647Z
URL:https://www.societe-de-lecture.ch/events/jean-christophe-grange-differ
 e/
SUMMARY:Jean-Christophe Grangé / DIFFÉRÉ
DESCRIPTION:Je suis né du diable\n\nEntretien mené par Pascale Frey\, jou
 rnaliste\n\nJEAN-CHRISTOPHE GRANGÉ a un parcours atypique qui le mène de
  la Sorbonne où il obtient une maîtrise en lettres\, à la publicité\, 
 puis au journalisme. Après avoir été Grand reporter\, il se lance dans 
 l’écriture de thrillers tous publiés chez Albin Michel. Son premier ro
 man\, Le vol des cigognes (1994) est bien accueilli par la critique. Son b
 est-seller Les rivières pourpres (1997)\, adapté au cinéma par Mathieu 
 Kassovitz\, contribue à sa reconnaissance comme l’un des maîtres du th
 riller français. Il est l’auteur de dix-neuf romans\, traduits en plus 
 de trente langues dont Rouge karma (2024).\n\nJe suis né du diable (2025)
  est d’autant plus terrifiant que tout y est vrai : l’auteur met en lu
 mière la trouble figure paternelle à l’origine de son inspiration viol
 ente et sombre.
CATEGORIES:Automne 2025,Différé / Replay
END:VEVENT
BEGIN:VTIMEZONE
TZID:Europe/Paris
X-LIC-LOCATION:Europe/Paris
BEGIN:STANDARD
DTSTART:20251026T020000
TZOFFSETFROM:+0200
TZOFFSETTO:+0100
TZNAME:CET
END:STANDARD
END:VTIMEZONE
END:VCALENDAR