BEGIN:VCALENDAR
VERSION:2.0
PRODID:-//wp-events-plugin.com//7.2.3.1//EN
TZID:Europe/Paris
X-WR-TIMEZONE:Europe/Paris
BEGIN:VEVENT
UID:365@societe-de-lecture.ch
DTSTART;TZID=Europe/Paris:20250930T123000
DTEND;TZID=Europe/Paris:20250930T140000
DTSTAMP:20250924T103211Z
URL:https://www.societe-de-lecture.ch/events/guillaume-gallienne/
SUMMARY:Guillaume Gallienne / CHANGEMENT DE SALLE - Salle Centrale de la Ma
 deleine - sur liste d'attente
DESCRIPTION:Le buveur de brume\n\nEntretien mené par Alexandre Demidoff\, 
 journaliste Culture au Temps\n\nGUILLAUME GALLIENNE est acteur\, scénari
 ste et réalisateur\, sociétaire de la Comédie-Française depuis 2005. I
 l a reçu de multiples récompenses pour sa comédie Les garçons et Guill
 aume\, à table ! (Molière de la révélation théâtrale\, 2010) qu’il
  adapta au cinéma en 2013. De 2009 à 2020\, il anima sur France Inter Ç
 a peut pas faire de mal.\n\nDans Le buveur de brume (Stock\, 2025) alors q
 u’il devait passer une nuit au Musée National de Tbilissi\, il est fina
 lement attendu à la Galerie nationale où le portrait de son arrière-gra
 nd-mère\, la princesse Mélita Cholokashvili\, dite Babou\, a été dépl
 acé. Il va alors dialoguer avec sa part géorgienne\,\ncelle léguée par
  Babou\, muse magnifique de la vie littéraire en Géorgie au début du XX
 e siècle\, et par sa grand-mère adorée Caï\, complice de ses jeunes an
 nées. Les raconter\, c’est aussi revisiter\, souvent avec humour\, les 
 racines de sa propre construction.\n\nLa rencontre aura lieu à la salle C
 entrale de la Madeleine – 10 rue de la Madeleine - 1204 Genève (proche 
 arrêt TPG Molard et parkings Mont-Blanc\, Rive ou Saint-Antoine).\n\n&nbs
 p\;
CATEGORIES:Automne 2025,Conférences
LOCATION:Salle Centrale de la Madeleine\, rue de la Madeleine 10\, Genève\
 , 1204\, Suisse
X-APPLE-STRUCTURED-LOCATION;VALUE=URI;X-ADDRESS=rue de la Madeleine 10\, Ge
 nève\, 1204\, Suisse;X-APPLE-RADIUS=100;X-TITLE=Salle Centrale de la Made
 leine:geo:0,0
END:VEVENT
BEGIN:VTIMEZONE
TZID:Europe/Paris
X-LIC-LOCATION:Europe/Paris
BEGIN:DAYLIGHT
DTSTART:20250330T030000
TZOFFSETFROM:+0100
TZOFFSETTO:+0200
TZNAME:CEST
END:DAYLIGHT
END:VTIMEZONE
END:VCALENDAR