BEGIN:VCALENDAR
VERSION:2.0
PRODID:-//wp-events-plugin.com//7.2.3.1//EN
TZID:Europe/Paris
X-WR-TIMEZONE:Europe/Paris
BEGIN:VEVENT
UID:376@societe-de-lecture.ch
DTSTART;TZID=Europe/Paris:20251118T190000
DTEND;TZID=Europe/Paris:20251118T203000
DTSTAMP:20250915T100142Z
URL:https://www.societe-de-lecture.ch/events/giuliano-da-empoli/
SUMMARY:Giuliano da Empoli / CHANGEMENT DE SALLE : salle Frank Martin (pas 
 d'apéritif) - sur liste d'attente
DESCRIPTION:L'heure des prédateurs\n\nEntretien mené par Manuela Salvi\, 
 journaliste\n\nAprès des études de droit à Rome et à Sciences Po Paris
  où il enseigne\, l’essayiste italo-suisse GIULIANO DA EMPOLI a été m
 aire-adjoint à la Culture de Florence\, puis conseiller politique de Matt
 eo Renzi. Après Les ingénieurs du chaos (JC Lattès\, 2019)\, sur la man
 ipulation des algorithmes par les populistes\, et Le mage du Kremlin (Gall
 imard\, 2022)\, Grand Prix du roman de l’Académie française\, vendu à
  plus de 700 000 exemplaires et traduit dans trente pays\, sur l’éminen
 ce grise de Vladimir Poutine\, L’heure des prédateurs (Gallimard\, 2025
 ) est une plongée aussi haletante que glaçante dans les coulisses d’un
  pouvoir politique décomplexé\, sans foi\, ni loi.\n\nLa rencontre aura 
 lieu à la salle Frank Martin : rue Mina-Audemars 3 - 1204 Genève (atten
 ant au Collège Calvin - proche arrêt TPG Rive et parking Saint-Antoine )
 \n\nIl ne sera pas proposé d'apéritif pour cette soirée.\n\n&nbsp\;
CATEGORIES:Automne 2025,Conférences
LOCATION:Société de Lecture\, 11 Grand Rue\, Genève\, Suisse
X-APPLE-STRUCTURED-LOCATION;VALUE=URI;X-ADDRESS=11 Grand Rue\, Genève\, Su
 isse;X-APPLE-RADIUS=100;X-TITLE=Société de Lecture:geo:0,0
END:VEVENT
BEGIN:VTIMEZONE
TZID:Europe/Paris
X-LIC-LOCATION:Europe/Paris
BEGIN:STANDARD
DTSTART:20251026T020000
TZOFFSETFROM:+0200
TZOFFSETTO:+0100
TZNAME:CET
END:STANDARD
END:VTIMEZONE
END:VCALENDAR