BEGIN:VCALENDAR
VERSION:2.0
PRODID:-//wp-events-plugin.com//7.2.3.1//EN
TZID:Europe/Paris
X-WR-TIMEZONE:Europe/Paris
BEGIN:VEVENT
UID:383@societe-de-lecture.ch
DTSTART;TZID=Europe/Paris:20250916T000000
DTEND;TZID=Europe/Paris:20251209T000000
DTSTAMP:20250820T120452Z
URL:https://www.societe-de-lecture.ch/events/forfait-differe-saison-automn
 e-2025/
SUMMARY:Forfait vidéos en différé saison "Automne 2025"
DESCRIPTION:Vous pouvez vous inscrire aux différés de toutes les confére
 nces francophones de la saison à tarif préférentiel.\n\nUn lien avec mo
 t de passe est envoyé par courriel quelques jours après chaque conféren
 ce. Ce lien est valable pendant un mois après sa première diffusion.\n\n
 &nbsp\;
CATEGORIES:Automne 2025,Différé / Replay
END:VEVENT
BEGIN:VTIMEZONE
TZID:Europe/Paris
X-LIC-LOCATION:Europe/Paris
BEGIN:DAYLIGHT
DTSTART:20250330T030000
TZOFFSETFROM:+0100
TZOFFSETTO:+0200
TZNAME:CEST
END:DAYLIGHT
BEGIN:STANDARD
DTSTART:20251026T020000
TZOFFSETFROM:+0200
TZOFFSETTO:+0100
TZNAME:CET
END:STANDARD
END:VTIMEZONE
END:VCALENDAR