BEGIN:VCALENDAR
VERSION:2.0
PRODID:-//wp-events-plugin.com//7.2.3.1//EN
TZID:Europe/Paris
X-WR-TIMEZONE:Europe/Paris
BEGIN:VEVENT
UID:349@societe-de-lecture.ch
DTSTART;TZID=Europe/Paris;VALUE=DATE:20250522
DTEND;TZID=Europe/Paris;VALUE=DATE:20250526
DTSTAMP:20250515T114416Z
URL:https://www.societe-de-lecture.ch/events/escapade-artistique-et-litter
 aire-en-toscane/
SUMMARY:Escapade artistique et littéraire en Toscane
DESCRIPTION:Du jeudi 22 mai au dimanche 25 mai 2025 (Programme détaillé s
 ur demande)\n\nDepuis toujours\, la Toscane méridionale éveille la passi
 on et l’imagination des poètes\, écrivains et autres créateurs. Son p
 aysage pittoresque et son riche héritage culturel saisissent les cœurs e
 t les esprits\, y inspirent des pensées palpitantes et donnent naissance 
 à d’immenses chefs-d’œuvre artistiques. Cette région fut habitée p
 ar les mystérieux Étrusques\, chantée par Dante et Boccaccio\, et cél
 ébrée par des écrivains du monde entier au cours des siècles\, en part
 iculier par les voyageurs du « Grand Tour »\, qui la traversaient pour s
 e rendre à Rome\, sur les traces des pèlerins médiévaux. Nous vous inv
 itons à vous immerger dans le territoire enchanteur de la province de Sie
 nne et à le parcourir de manière éclairée et poétique. Vous emboîter
 ez le pas à quelques-uns des écrivains qui ont parcouru ces terres ou qu
 i y sont nés\, découvrirez ses trésors et vivrez des rencontres et éch
 anges privilégiés autour de la création littéraire et artistique.\n\nL
 e temps d’une fin de semaine prolongée\, Antonella Notari Vischer vous 
 accueillera à Podere Trafonti\, une splendide maison de campagne équipé
 e de tout le confort\, située entre le Val d'Orcia et Montepulciano\, au 
 cœur d’un territoire culturellement dense et naturellement harmonieux. 
 En plus d’explorer l’héritage culturel et artistique de la région\, 
 vous pourrez aussi vous délecter de ses saveurs gastronomiques\, arrosée
 s par ses vins célèbres. Vous serez guidés en français par la Dr. Ilar
 ia Bichi Ruspoli\, historienne d’art diplômée de la prestigieuse Unive
 rsité de Sienne.
END:VEVENT
BEGIN:VTIMEZONE
TZID:Europe/Paris
X-LIC-LOCATION:Europe/Paris
BEGIN:DAYLIGHT
DTSTART:20250330T030000
TZOFFSETFROM:+0100
TZOFFSETTO:+0200
TZNAME:CEST
END:DAYLIGHT
END:VTIMEZONE
END:VCALENDAR