BEGIN:VCALENDAR
VERSION:2.0
PRODID:-//wp-events-plugin.com//7.2.3.1//EN
TZID:Europe/Paris
X-WR-TIMEZONE:Europe/Paris
BEGIN:VEVENT
UID:420@societe-de-lecture.ch
DTSTART;TZID=Europe/Paris:20260105T123000
DTEND;TZID=Europe/Paris:20260601T134500
DTSTAMP:20260129T112209Z
URL:https://www.societe-de-lecture.ch/events/de-la-lecture-flaneuse-a-la-l
 ecture-critique-groupe-1-cree-en-2024/
SUMMARY:De la lecture flâneuse à la lecture critique (groupe 1 créé en 
 2024) / COMPLET
DESCRIPTION:Animé par Alexandre Demidoff\n\nGroupe 1 créé en 2024 : le l
 undi de 12h30 à 13h45\, commencé en 2025 et se poursuivant les 5 janvier
 \, 16 février (au lieu du 2)\, 2 mars\, 20 avril\, 4 mai et 1er juin\n\nJ
 ournaliste à la rubrique Culture du Temps\, ALEXANDRE DEMIDOFF ne se lass
 e pas de courir les salles de spectacle en Suisse et à l’étranger. Tit
 ulaire d’un Master en littérature française de l’Université de Gen
 ève et de l’Université de Pennsylvanie à Philadelphie\, il invite à 
 s’initier au bonheur de la lecture critique. Les participants sont appel
 és à débattre des enjeux esthétiques de sept ou huit livres qui marque
 ront l’automne 2025 et le printemps 2026. Au programme notamment\, les r
 omans qui vont électriser la rentrée. Chaque séance donnera lieu à l
 ’examen joyeux et parfois polémique d’un ouvrage\, enrichi selon les 
 cas par l’analyse détaillée d’un passage significatif. L’objectif 
 ? Se doter d’outils pour jouir pleinement du texte et affirmer un jugeme
 nt. Les intuitions\, fulgurances et points de vue seront confrontés à ce
 ux de la critique  professionnelle.\n\n&nbsp\;
ATTACH;FMTTYPE=image/jpeg:https://www.societe-de-lecture.ch/wp-content/upl
 oads/2020/02/Alexandre-Demidoff20170918RebeccaBowring5175web.jpg
CATEGORIES:Ateliers et autres activités,Printemps 2026
LOCATION:Société de Lecture\, 11 Grand Rue\, Genève\, Suisse
X-APPLE-STRUCTURED-LOCATION;VALUE=URI;X-ADDRESS=11 Grand Rue\, Genève\, Su
 isse;X-APPLE-RADIUS=100;X-TITLE=Société de Lecture:geo:0,0
END:VEVENT
BEGIN:VTIMEZONE
TZID:Europe/Paris
X-LIC-LOCATION:Europe/Paris
BEGIN:STANDARD
DTSTART:20251026T020000
TZOFFSETFROM:+0200
TZOFFSETTO:+0100
TZNAME:CET
END:STANDARD
BEGIN:DAYLIGHT
DTSTART:20260329T030000
TZOFFSETFROM:+0100
TZOFFSETTO:+0200
TZNAME:CEST
END:DAYLIGHT
END:VTIMEZONE
END:VCALENDAR