BEGIN:VCALENDAR
VERSION:2.0
PRODID:-//wp-events-plugin.com//7.2.3.1//EN
TZID:Europe/Paris
X-WR-TIMEZONE:Europe/Paris
BEGIN:VEVENT
UID:405@societe-de-lecture.ch
DTSTART;TZID=Europe/Paris:20251029T123000
DTEND;TZID=Europe/Paris:20251029T133000
DTSTAMP:20250829T112736Z
URL:https://www.societe-de-lecture.ch/events/dans-lenfer-de-la-societe-de-
 lecture-29-octobre-2025/
SUMMARY:Dans l'Enfer de la Société de Lecture - 29 octobre 2025 / sur lis
 te d'attente
DESCRIPTION:La bibliothèque se dévoile ! \n\nUne visite guidée de Maxim
 e Canals\, conservateur des collections et bibliothécaire de la Société
  de Lecture\n\nMercredi 29 octobre de 12h30 à 13h30\n\nDans certaines bib
 liothèques\, on classe en « Enfer » les livres qui ne doivent pas se tr
 ouver à portée de tous les regards sur les rayonnages\, pour des raisons
  religieuses\, morales ou politiques. Alors que la cancel culture tente d
 ’imposer une nouvelle forme de censure\, il est intéressant de faire un
  petit tour dans l’Enfer de la Société de Lecture. Que de surprises : 
 poètes\, pamphlétaires\, historiens\, ecclésiastiques ou romanciers ont
  subi les foudres du législateur... mais ont trouvé refuge sur les rayon
 nages de notre bibliothèque ! Oserez-vous vous inscrire pour une présent
 ation par Maxime Canals de certains de ces livres « scandaleux » ?
ATTACH;FMTTYPE=image/jpeg:https://www.societe-de-lecture.ch/wp-content/upl
 oads/2020/02/Maxime.20190910RebeccaBowring0396web.jpg
CATEGORIES:Ateliers et autres activités,Automne 2025
LOCATION:Société de Lecture\, 11 Grand Rue\, Genève\, Suisse
X-APPLE-STRUCTURED-LOCATION;VALUE=URI;X-ADDRESS=11 Grand Rue\, Genève\, Su
 isse;X-APPLE-RADIUS=100;X-TITLE=Société de Lecture:geo:0,0
END:VEVENT
BEGIN:VTIMEZONE
TZID:Europe/Paris
X-LIC-LOCATION:Europe/Paris
BEGIN:STANDARD
DTSTART:20251026T020000
TZOFFSETFROM:+0200
TZOFFSETTO:+0100
TZNAME:CET
END:STANDARD
END:VTIMEZONE
END:VCALENDAR