BEGIN:VCALENDAR
VERSION:2.0
PRODID:-//wp-events-plugin.com//7.2.3.1//EN
TZID:Europe/Paris
X-WR-TIMEZONE:Europe/Paris
BEGIN:VEVENT
UID:169@societe-de-lecture.ch
DTSTART;TZID=Europe/Paris:20240116T123000
DTEND;TZID=Europe/Paris:20240116T140000
DTSTAMP:20231206T094626Z
URL:https://www.societe-de-lecture.ch/events/bertrand-du-vignaud-differe/
SUMMARY:Bertrand du Vignaud (différé)
DESCRIPTION:\n\nLes Thellusson\, des Rothschild à la genevoise ?\n\nBERTRA
 ND DU VIGNAUD est président du Comité International des Amis de la Bibli
 othèque Vaticane à Rome\, conseiller exécutif de la Fondation Evergète
  à Genève et conseiller scientifique de Dassault Histoire et Patrimoine 
 à Paris. Il fut président du World Monuments Fund Europe (WMF) de sa cr
 éation en 2003 jusqu’en 2015. De 1987 à 2003\, il a occupé les foncti
 ons de vice-président puis de président du WMF France. Il a été prési
 dent de Christie’s Monaco\, vice-président de Christie’s France et ad
 ministrateur de Christie’s Europe. Petit-neveu du peintre Henri de Toulo
 use-Lautrec\, il est administrateur du musée Toulouse- Lautrec et propri
 étaire de la maison natale de l’artiste à Albi. Il est l’auteur de p
 lusieurs ouvrages dont Les Thellusson : une dynastie de grands amateurs d
 ’art (In Fine\, 2021). La famille des banquiers Thellusson a été compa
 rée aux Rothschild en raison de leur patrimoine et parce que la famille s
 ’est séparée en trois branches également brillantes. Au XVIIIe siècl
 e\, leur fortune s’étendait de Genève à Londres en passant par Paris 
 où l’Hôtel de Thellusson était connu comme la plus fastueuse demeure 
 de la capitale. Bertrand du Vignaud rend toute sa place à cette famille i
 ncontournable de collectionneurs d’origine huguenote\, regrettablement t
 ombée dans l’oubli.
END:VEVENT
BEGIN:VTIMEZONE
TZID:Europe/Paris
X-LIC-LOCATION:Europe/Paris
BEGIN:STANDARD
DTSTART:20231029T020000
TZOFFSETFROM:+0200
TZOFFSETTO:+0100
TZNAME:CET
END:STANDARD
END:VTIMEZONE
END:VCALENDAR