BEGIN:VCALENDAR
VERSION:2.0
PRODID:-//wp-events-plugin.com//7.2.3.1//EN
TZID:Europe/Paris
X-WR-TIMEZONE:Europe/Paris
BEGIN:VEVENT
UID:408@societe-de-lecture.ch
DTSTART;TZID=Europe/Paris:20250906T100000
DTEND;TZID=Europe/Paris:20251011T113000
DTSTAMP:20250818T152230Z
URL:https://www.societe-de-lecture.ch/events/atelier-dechecs-6/
SUMMARY:Atelier d’échecs
DESCRIPTION:Inscriptions via le menu "ajouter programme jeunesse"\n\nLe sam
 edi de 10h à 11h30\, les 6\, 13\, 20 septembre\, 4 et 11 octobre 2025\n\n
 Animé par Mégane Miralles\, le Grand Maître International Clovis Vernay
  et le Maître International Yohan Benitah\, moniteurs de la Fédération
  Genevoise d’Échecs (FGE).\n\nPour adultes débutants et faux débutant
 s\n\nCet atelier vous invite à vous familiariser avec ce jeu millénaire 
 et à progresser par la pratique et l’apprentissage d’ouvertures et de
  thèmes clés. Les participants pourront jouer et bénéficier des consei
 ls avisés du GMI Clovis Vernay.\n\nEgalement pour les jeunes de 4 à 13 a
 ns\, trois groupes selon âge et expérience du jeu\n\nLes plus jeunes jou
 eurs débutants de 4 à 6 ans apprendront les règles du jeu. Les faux dé
 butants commenceront à trouver des mats et autres combinaisons tactiques.
  Les enfants plus âgés ou aguerris développeront leur compréhension ta
 ctique et stratégique. Un cahier d’exercices correspondant au niveau de
  chaque enfant lui sera offert. Il pourra ainsi y noter sa progression et 
 continuer son apprentissage au-delà de l’atelier. Le jeu d’échecs es
 t stimulant et bénéfique puisqu’il améliore certaines compétences te
 lles que la mémoire\, la concentration\, l’anticipation et la prise de 
 décision ainsi que la patience et le fair-play. Les trois groupes partici
 peront le dernier jour à une compétition amicale\, dont les trois premie
 rs remporteront des trophées.\n\n&nbsp\;
CATEGORIES:Ateliers et autres activités,Automne 2025
LOCATION:Société de Lecture\, 11 Grand Rue\, Genève\, Suisse
X-APPLE-STRUCTURED-LOCATION;VALUE=URI;X-ADDRESS=11 Grand Rue\, Genève\, Su
 isse;X-APPLE-RADIUS=100;X-TITLE=Société de Lecture:geo:0,0
END:VEVENT
BEGIN:VTIMEZONE
TZID:Europe/Paris
X-LIC-LOCATION:Europe/Paris
BEGIN:DAYLIGHT
DTSTART:20250330T030000
TZOFFSETFROM:+0100
TZOFFSETTO:+0200
TZNAME:CEST
END:DAYLIGHT
END:VTIMEZONE
END:VCALENDAR